BEGIN:VCALENDAR
VERSION:2.0
PRODID:-//Family Health Centers - ECPv6.15.20//NONSGML v1.0//EN
CALSCALE:GREGORIAN
METHOD:PUBLISH
X-WR-CALNAME:Family Health Centers
X-ORIGINAL-URL:https://www.fhclouisville.org
X-WR-CALDESC:Events for Family Health Centers
REFRESH-INTERVAL;VALUE=DURATION:PT1H
X-Robots-Tag:noindex
X-PUBLISHED-TTL:PT1H
BEGIN:VTIMEZONE
TZID:UTC
BEGIN:STANDARD
TZOFFSETFROM:+0000
TZOFFSETTO:+0000
TZNAME:UTC
DTSTART:20240101T000000
END:STANDARD
END:VTIMEZONE
BEGIN:VEVENT
DTSTART;TZID=UTC:20251231T170000
DTEND;TZID=UTC:20251231T180000
DTSTAMP:20260425T215755
CREATED:20241212T161147Z
LAST-MODIFIED:20241212T161147Z
UID:30449-1767200400-1767204000@www.fhclouisville.org
SUMMARY:Zumba (East Broadway)
DESCRIPTION:Have fun and get in shape! Free! \nOffered Wednesdays and Thursdays from 5:00pm – 6:00pm at FHC – East Broadway. \nOffered Saturdays from 10:00am – 11:00am at FHC – East Broadway. \nCall 502-772-8588 or email healtheducation@fhclouisville.org for more information.
URL:https://www.fhclouisville.org/event/30109/2025-12-31/
LOCATION:FHC-East Broadway\, 834 East Broadway\, Louisville\, 40204
CATEGORIES:Exercise,Health Education
GEO:38.244177;-85.737774
X-APPLE-STRUCTURED-LOCATION;VALUE=URI;X-ADDRESS=FHC-East Broadway 834 East Broadway Louisville 40204;X-APPLE-RADIUS=500;X-TITLE=834 East Broadway:geo:-85.737774,38.244177
END:VEVENT
BEGIN:VEVENT
DTSTART;TZID=UTC:20260103T100000
DTEND;TZID=UTC:20260103T110000
DTSTAMP:20260425T215755
CREATED:20251202T192800Z
LAST-MODIFIED:20251202T192800Z
UID:30661-1767434400-1767438000@www.fhclouisville.org
SUMMARY:Zumba (East Broadway)
DESCRIPTION:Have fun and get in shape! Free! \nOffered Wednesdays and Thursdays from 5:00pm – 6:00pm at FHC – East Broadway. \nOffered Saturdays from 10:00am – 11:00am at FHC – East Broadway. \nCall 502-772-8588 or email healtheducation@fhclouisville.org for more information.
URL:https://www.fhclouisville.org/event/zumba-east-broadway-10/2026-01-03/
LOCATION:FHC-East Broadway\, 834 East Broadway\, Louisville\, 40204
CATEGORIES:Exercise,Health Education
GEO:38.244177;-85.737774
X-APPLE-STRUCTURED-LOCATION;VALUE=URI;X-ADDRESS=FHC-East Broadway 834 East Broadway Louisville 40204;X-APPLE-RADIUS=500;X-TITLE=834 East Broadway:geo:-85.737774,38.244177
END:VEVENT
BEGIN:VEVENT
DTSTART;TZID=UTC:20260107T170000
DTEND;TZID=UTC:20260107T180000
DTSTAMP:20260425T215755
CREATED:20251202T192122Z
LAST-MODIFIED:20251202T192122Z
UID:30557-1767805200-1767808800@www.fhclouisville.org
SUMMARY:Zumba (East Broadway)
DESCRIPTION:Have fun and get in shape! Free! \nOffered Wednesdays and Thursdays from 5:00pm – 6:00pm at FHC – East Broadway. \nOffered Saturdays from 10:00am – 11:00am at FHC – East Broadway. \nCall 502-772-8588 or email healtheducation@fhclouisville.org for more information.
URL:https://www.fhclouisville.org/event/zumba-east-broadway-9/2026-01-07/
LOCATION:FHC-East Broadway\, 834 East Broadway\, Louisville\, 40204
CATEGORIES:Exercise,Health Education
GEO:38.244177;-85.737774
X-APPLE-STRUCTURED-LOCATION;VALUE=URI;X-ADDRESS=FHC-East Broadway 834 East Broadway Louisville 40204;X-APPLE-RADIUS=500;X-TITLE=834 East Broadway:geo:-85.737774,38.244177
END:VEVENT
BEGIN:VEVENT
DTSTART;TZID=UTC:20260108T170000
DTEND;TZID=UTC:20260108T180000
DTSTAMP:20260425T215755
CREATED:20251202T192122Z
LAST-MODIFIED:20251202T192122Z
UID:30558-1767891600-1767895200@www.fhclouisville.org
SUMMARY:Zumba (East Broadway)
DESCRIPTION:Have fun and get in shape! Free! \nOffered Wednesdays and Thursdays from 5:00pm – 6:00pm at FHC – East Broadway. \nOffered Saturdays from 10:00am – 11:00am at FHC – East Broadway. \nCall 502-772-8588 or email healtheducation@fhclouisville.org for more information.
URL:https://www.fhclouisville.org/event/zumba-east-broadway-9/2026-01-08/
LOCATION:FHC-East Broadway\, 834 East Broadway\, Louisville\, 40204
CATEGORIES:Exercise,Health Education
GEO:38.244177;-85.737774
X-APPLE-STRUCTURED-LOCATION;VALUE=URI;X-ADDRESS=FHC-East Broadway 834 East Broadway Louisville 40204;X-APPLE-RADIUS=500;X-TITLE=834 East Broadway:geo:-85.737774,38.244177
END:VEVENT
BEGIN:VEVENT
DTSTART;TZID=UTC:20260109T110000
DTEND;TZID=UTC:20260109T120000
DTSTAMP:20260425T215755
CREATED:20251212T170429Z
LAST-MODIFIED:20251212T170429Z
UID:30790-1767956400-1767960000@www.fhclouisville.org
SUMMARY:Técnicas de relajación para el parto (East Broadway)
DESCRIPTION:Ya sea que está considerando una experiencia de parto sin medicación o planea utilizar medicamentos para el dolor\, esta clase explorara medidas de confort como patrones de respiración\, técnicas de relajación\, visualización\, masajes\, apoyo de pareja y mucho más. Los participantes deben usar ropa cómoda\, tener dos almohadas y colchoneta de ejercicios o toalla. Si ya se registró para Lamaze Principles\, no necesita registrarse para la clase de Medidas de Confort. \nPara obtener más información\, envíe un correo electrónico a healtheducation@fhclouisville.org o llame al 502-569-2980.
URL:https://www.fhclouisville.org/event/tecnicas-de-relajacion-para-el-parto-east-broadway-2/
LOCATION:FHC-East Broadway\, 834 East Broadway\, Louisville\, 40204
CATEGORIES:Español,Health Education,Prenatal
GEO:38.244177;-85.737774
X-APPLE-STRUCTURED-LOCATION;VALUE=URI;X-ADDRESS=FHC-East Broadway 834 East Broadway Louisville 40204;X-APPLE-RADIUS=500;X-TITLE=834 East Broadway:geo:-85.737774,38.244177
END:VEVENT
BEGIN:VEVENT
DTSTART;TZID=UTC:20260110T100000
DTEND;TZID=UTC:20260110T110000
DTSTAMP:20260425T215755
CREATED:20251202T192800Z
LAST-MODIFIED:20251202T192800Z
UID:30662-1768039200-1768042800@www.fhclouisville.org
SUMMARY:Zumba (East Broadway)
DESCRIPTION:Have fun and get in shape! Free! \nOffered Wednesdays and Thursdays from 5:00pm – 6:00pm at FHC – East Broadway. \nOffered Saturdays from 10:00am – 11:00am at FHC – East Broadway. \nCall 502-772-8588 or email healtheducation@fhclouisville.org for more information.
URL:https://www.fhclouisville.org/event/zumba-east-broadway-10/2026-01-10/
LOCATION:FHC-East Broadway\, 834 East Broadway\, Louisville\, 40204
CATEGORIES:Exercise,Health Education
GEO:38.244177;-85.737774
X-APPLE-STRUCTURED-LOCATION;VALUE=URI;X-ADDRESS=FHC-East Broadway 834 East Broadway Louisville 40204;X-APPLE-RADIUS=500;X-TITLE=834 East Broadway:geo:-85.737774,38.244177
END:VEVENT
BEGIN:VEVENT
DTSTART;TZID=UTC:20260110T120000
DTEND;TZID=UTC:20260110T130000
DTSTAMP:20260425T215755
CREATED:20251212T172325Z
LAST-MODIFIED:20251212T172325Z
UID:30796-1768046400-1768050000@www.fhclouisville.org
SUMMARY:Family Playgroup (East Broadway)
DESCRIPTION:For parents and children 0 to 5 years old. \nLearn and have fun with your child through art\, music\, movement and more! Free! \nOffered Saturdays\, 12:00pm – 1:00pm. \nCall 502-772-8588 or email healtheducation@fhclouisville.org for more information.
URL:https://www.fhclouisville.org/event/family-playgroup-east-broadway-5/2026-01-10/
LOCATION:FHC-East Broadway\, 834 East Broadway\, Louisville\, 40204
CATEGORIES:For Kids,Health Education,Parenting
GEO:38.244177;-85.737774
X-APPLE-STRUCTURED-LOCATION;VALUE=URI;X-ADDRESS=FHC-East Broadway 834 East Broadway Louisville 40204;X-APPLE-RADIUS=500;X-TITLE=834 East Broadway:geo:-85.737774,38.244177
END:VEVENT
BEGIN:VEVENT
DTSTART;TZID=UTC:20260112T173000
DTEND;TZID=UTC:20260112T183000
DTSTAMP:20260425T215755
CREATED:20251202T193103Z
LAST-MODIFIED:20251202T193103Z
UID:30713-1768239000-1768242600@www.fhclouisville.org
SUMMARY:Yoga (East Broadway)
DESCRIPTION:Relax\, stretch\, and strengthen your muscles. FREE! \nAttend every Monday or drop in on select Mondays from 5:30pm – 6:30pm. \nYoga mats and other supplies available for use during class. \nCall 502-772-8588 or email healtheducation@fhclouisville.org for more information.
URL:https://www.fhclouisville.org/event/yoga-east-broadway-4/2026-01-12/
LOCATION:FHC-East Broadway\, 834 East Broadway\, Louisville\, 40204
CATEGORIES:Exercise,Health Education,Stress relief
GEO:38.244177;-85.737774
X-APPLE-STRUCTURED-LOCATION;VALUE=URI;X-ADDRESS=FHC-East Broadway 834 East Broadway Louisville 40204;X-APPLE-RADIUS=500;X-TITLE=834 East Broadway:geo:-85.737774,38.244177
END:VEVENT
BEGIN:VEVENT
DTSTART;TZID=UTC:20260114T170000
DTEND;TZID=UTC:20260114T180000
DTSTAMP:20260425T215755
CREATED:20251202T192122Z
LAST-MODIFIED:20251202T192122Z
UID:30559-1768410000-1768413600@www.fhclouisville.org
SUMMARY:Zumba (East Broadway)
DESCRIPTION:Have fun and get in shape! Free! \nOffered Wednesdays and Thursdays from 5:00pm – 6:00pm at FHC – East Broadway. \nOffered Saturdays from 10:00am – 11:00am at FHC – East Broadway. \nCall 502-772-8588 or email healtheducation@fhclouisville.org for more information.
URL:https://www.fhclouisville.org/event/zumba-east-broadway-9/2026-01-14/
LOCATION:FHC-East Broadway\, 834 East Broadway\, Louisville\, 40204
CATEGORIES:Exercise,Health Education
GEO:38.244177;-85.737774
X-APPLE-STRUCTURED-LOCATION;VALUE=URI;X-ADDRESS=FHC-East Broadway 834 East Broadway Louisville 40204;X-APPLE-RADIUS=500;X-TITLE=834 East Broadway:geo:-85.737774,38.244177
END:VEVENT
BEGIN:VEVENT
DTSTART;TZID=UTC:20260115T170000
DTEND;TZID=UTC:20260115T180000
DTSTAMP:20260425T215755
CREATED:20251202T192122Z
LAST-MODIFIED:20251202T192122Z
UID:30560-1768496400-1768500000@www.fhclouisville.org
SUMMARY:Zumba (East Broadway)
DESCRIPTION:Have fun and get in shape! Free! \nOffered Wednesdays and Thursdays from 5:00pm – 6:00pm at FHC – East Broadway. \nOffered Saturdays from 10:00am – 11:00am at FHC – East Broadway. \nCall 502-772-8588 or email healtheducation@fhclouisville.org for more information.
URL:https://www.fhclouisville.org/event/zumba-east-broadway-9/2026-01-15/
LOCATION:FHC-East Broadway\, 834 East Broadway\, Louisville\, 40204
CATEGORIES:Exercise,Health Education
GEO:38.244177;-85.737774
X-APPLE-STRUCTURED-LOCATION;VALUE=URI;X-ADDRESS=FHC-East Broadway 834 East Broadway Louisville 40204;X-APPLE-RADIUS=500;X-TITLE=834 East Broadway:geo:-85.737774,38.244177
END:VEVENT
BEGIN:VEVENT
DTSTART;TZID=UTC:20260117T100000
DTEND;TZID=UTC:20260117T110000
DTSTAMP:20260425T215755
CREATED:20251202T192800Z
LAST-MODIFIED:20251202T192800Z
UID:30663-1768644000-1768647600@www.fhclouisville.org
SUMMARY:Zumba (East Broadway)
DESCRIPTION:Have fun and get in shape! Free! \nOffered Wednesdays and Thursdays from 5:00pm – 6:00pm at FHC – East Broadway. \nOffered Saturdays from 10:00am – 11:00am at FHC – East Broadway. \nCall 502-772-8588 or email healtheducation@fhclouisville.org for more information.
URL:https://www.fhclouisville.org/event/zumba-east-broadway-10/2026-01-17/
LOCATION:FHC-East Broadway\, 834 East Broadway\, Louisville\, 40204
CATEGORIES:Exercise,Health Education
GEO:38.244177;-85.737774
X-APPLE-STRUCTURED-LOCATION;VALUE=URI;X-ADDRESS=FHC-East Broadway 834 East Broadway Louisville 40204;X-APPLE-RADIUS=500;X-TITLE=834 East Broadway:geo:-85.737774,38.244177
END:VEVENT
BEGIN:VEVENT
DTSTART;TZID=UTC:20260117T120000
DTEND;TZID=UTC:20260117T130000
DTSTAMP:20260425T215755
CREATED:20251212T172325Z
LAST-MODIFIED:20251212T172325Z
UID:30797-1768651200-1768654800@www.fhclouisville.org
SUMMARY:Family Playgroup (East Broadway)
DESCRIPTION:For parents and children 0 to 5 years old. \nLearn and have fun with your child through art\, music\, movement and more! Free! \nOffered Saturdays\, 12:00pm – 1:00pm. \nCall 502-772-8588 or email healtheducation@fhclouisville.org for more information.
URL:https://www.fhclouisville.org/event/family-playgroup-east-broadway-5/2026-01-17/
LOCATION:FHC-East Broadway\, 834 East Broadway\, Louisville\, 40204
CATEGORIES:For Kids,Health Education,Parenting
GEO:38.244177;-85.737774
X-APPLE-STRUCTURED-LOCATION;VALUE=URI;X-ADDRESS=FHC-East Broadway 834 East Broadway Louisville 40204;X-APPLE-RADIUS=500;X-TITLE=834 East Broadway:geo:-85.737774,38.244177
END:VEVENT
BEGIN:VEVENT
DTSTART;TZID=UTC:20260119T173000
DTEND;TZID=UTC:20260119T183000
DTSTAMP:20260425T215755
CREATED:20251202T193103Z
LAST-MODIFIED:20251202T193103Z
UID:30714-1768843800-1768847400@www.fhclouisville.org
SUMMARY:Yoga (East Broadway)
DESCRIPTION:Relax\, stretch\, and strengthen your muscles. FREE! \nAttend every Monday or drop in on select Mondays from 5:30pm – 6:30pm. \nYoga mats and other supplies available for use during class. \nCall 502-772-8588 or email healtheducation@fhclouisville.org for more information.
URL:https://www.fhclouisville.org/event/yoga-east-broadway-4/2026-01-19/
LOCATION:FHC-East Broadway\, 834 East Broadway\, Louisville\, 40204
CATEGORIES:Exercise,Health Education,Stress relief
GEO:38.244177;-85.737774
X-APPLE-STRUCTURED-LOCATION;VALUE=URI;X-ADDRESS=FHC-East Broadway 834 East Broadway Louisville 40204;X-APPLE-RADIUS=500;X-TITLE=834 East Broadway:geo:-85.737774,38.244177
END:VEVENT
BEGIN:VEVENT
DTSTART;TZID=UTC:20260121T170000
DTEND;TZID=UTC:20260121T180000
DTSTAMP:20260425T215755
CREATED:20251202T192122Z
LAST-MODIFIED:20251202T192122Z
UID:30561-1769014800-1769018400@www.fhclouisville.org
SUMMARY:Zumba (East Broadway)
DESCRIPTION:Have fun and get in shape! Free! \nOffered Wednesdays and Thursdays from 5:00pm – 6:00pm at FHC – East Broadway. \nOffered Saturdays from 10:00am – 11:00am at FHC – East Broadway. \nCall 502-772-8588 or email healtheducation@fhclouisville.org for more information.
URL:https://www.fhclouisville.org/event/zumba-east-broadway-9/2026-01-21/
LOCATION:FHC-East Broadway\, 834 East Broadway\, Louisville\, 40204
CATEGORIES:Exercise,Health Education
GEO:38.244177;-85.737774
X-APPLE-STRUCTURED-LOCATION;VALUE=URI;X-ADDRESS=FHC-East Broadway 834 East Broadway Louisville 40204;X-APPLE-RADIUS=500;X-TITLE=834 East Broadway:geo:-85.737774,38.244177
END:VEVENT
BEGIN:VEVENT
DTSTART;TZID=UTC:20260122T170000
DTEND;TZID=UTC:20260122T180000
DTSTAMP:20260425T215755
CREATED:20251202T192122Z
LAST-MODIFIED:20251202T192122Z
UID:30562-1769101200-1769104800@www.fhclouisville.org
SUMMARY:Zumba (East Broadway)
DESCRIPTION:Have fun and get in shape! Free! \nOffered Wednesdays and Thursdays from 5:00pm – 6:00pm at FHC – East Broadway. \nOffered Saturdays from 10:00am – 11:00am at FHC – East Broadway. \nCall 502-772-8588 or email healtheducation@fhclouisville.org for more information.
URL:https://www.fhclouisville.org/event/zumba-east-broadway-9/2026-01-22/
LOCATION:FHC-East Broadway\, 834 East Broadway\, Louisville\, 40204
CATEGORIES:Exercise,Health Education
GEO:38.244177;-85.737774
X-APPLE-STRUCTURED-LOCATION;VALUE=URI;X-ADDRESS=FHC-East Broadway 834 East Broadway Louisville 40204;X-APPLE-RADIUS=500;X-TITLE=834 East Broadway:geo:-85.737774,38.244177
END:VEVENT
BEGIN:VEVENT
DTSTART;TZID=UTC:20260124T100000
DTEND;TZID=UTC:20260124T110000
DTSTAMP:20260425T215755
CREATED:20251202T192800Z
LAST-MODIFIED:20251202T192800Z
UID:30664-1769248800-1769252400@www.fhclouisville.org
SUMMARY:Zumba (East Broadway)
DESCRIPTION:Have fun and get in shape! Free! \nOffered Wednesdays and Thursdays from 5:00pm – 6:00pm at FHC – East Broadway. \nOffered Saturdays from 10:00am – 11:00am at FHC – East Broadway. \nCall 502-772-8588 or email healtheducation@fhclouisville.org for more information.
URL:https://www.fhclouisville.org/event/zumba-east-broadway-10/2026-01-24/
LOCATION:FHC-East Broadway\, 834 East Broadway\, Louisville\, 40204
CATEGORIES:Exercise,Health Education
GEO:38.244177;-85.737774
X-APPLE-STRUCTURED-LOCATION;VALUE=URI;X-ADDRESS=FHC-East Broadway 834 East Broadway Louisville 40204;X-APPLE-RADIUS=500;X-TITLE=834 East Broadway:geo:-85.737774,38.244177
END:VEVENT
BEGIN:VEVENT
DTSTART;TZID=UTC:20260124T120000
DTEND;TZID=UTC:20260124T130000
DTSTAMP:20260425T215755
CREATED:20251212T172325Z
LAST-MODIFIED:20260124T140610Z
UID:30798-1769256000-1769259600@www.fhclouisville.org
SUMMARY:Family Playgroup (East Broadway)
DESCRIPTION:For parents and children 0 to 5 years old. \nLearn and have fun with your child through art\, music\, movement and more! Free! \nOffered Saturdays\, 12:00pm – 1:00pm. \nCall 502-772-8588 or email healtheducation@fhclouisville.org for more information.
URL:https://www.fhclouisville.org/event/family-playgroup-east-broadway-5-2026-01-24/
LOCATION:FHC-East Broadway\, 834 East Broadway\, Louisville\, 40204
CATEGORIES:For Kids,Health Education,Parenting
GEO:38.244177;-85.737774
X-APPLE-STRUCTURED-LOCATION;VALUE=URI;X-ADDRESS=FHC-East Broadway 834 East Broadway Louisville 40204;X-APPLE-RADIUS=500;X-TITLE=834 East Broadway:geo:-85.737774,38.244177
END:VEVENT
BEGIN:VEVENT
DTSTART;TZID=UTC:20260126T173000
DTEND;TZID=UTC:20260126T183000
DTSTAMP:20260425T215755
CREATED:20251202T194422Z
LAST-MODIFIED:20251202T194459Z
UID:30753-1769448600-1769452200@www.fhclouisville.org
SUMMARY:Chair Yoga (East Broadway)
DESCRIPTION:Relax\, stretch\, and strengthen your muscles. FREE! \nAttend on the 4th Monday of each month from 5:30pm – 6:30pm for chair yoga. \nAttend other Mondays for mat-based yoga classes. \nChairs and other supplies available for use during class. \nCall 502-772-8588 or email healtheducation@fhclouisville.org for more information.
URL:https://www.fhclouisville.org/event/chair-yoga-east-broadway/2026-01-26/
LOCATION:FHC-East Broadway\, 834 East Broadway\, Louisville\, 40204
CATEGORIES:Exercise,Health Education,Stress relief
GEO:38.244177;-85.737774
X-APPLE-STRUCTURED-LOCATION;VALUE=URI;X-ADDRESS=FHC-East Broadway 834 East Broadway Louisville 40204;X-APPLE-RADIUS=500;X-TITLE=834 East Broadway:geo:-85.737774,38.244177
END:VEVENT
BEGIN:VEVENT
DTSTART;TZID=UTC:20260128T170000
DTEND;TZID=UTC:20260128T180000
DTSTAMP:20260425T215755
CREATED:20251202T192122Z
LAST-MODIFIED:20251202T192122Z
UID:30563-1769619600-1769623200@www.fhclouisville.org
SUMMARY:Zumba (East Broadway)
DESCRIPTION:Have fun and get in shape! Free! \nOffered Wednesdays and Thursdays from 5:00pm – 6:00pm at FHC – East Broadway. \nOffered Saturdays from 10:00am – 11:00am at FHC – East Broadway. \nCall 502-772-8588 or email healtheducation@fhclouisville.org for more information.
URL:https://www.fhclouisville.org/event/zumba-east-broadway-9/2026-01-28/
LOCATION:FHC-East Broadway\, 834 East Broadway\, Louisville\, 40204
CATEGORIES:Exercise,Health Education
GEO:38.244177;-85.737774
X-APPLE-STRUCTURED-LOCATION;VALUE=URI;X-ADDRESS=FHC-East Broadway 834 East Broadway Louisville 40204;X-APPLE-RADIUS=500;X-TITLE=834 East Broadway:geo:-85.737774,38.244177
END:VEVENT
BEGIN:VEVENT
DTSTART;TZID=UTC:20260129T170000
DTEND;TZID=UTC:20260129T180000
DTSTAMP:20260425T215755
CREATED:20251202T192122Z
LAST-MODIFIED:20251202T192122Z
UID:30564-1769706000-1769709600@www.fhclouisville.org
SUMMARY:Zumba (East Broadway)
DESCRIPTION:Have fun and get in shape! Free! \nOffered Wednesdays and Thursdays from 5:00pm – 6:00pm at FHC – East Broadway. \nOffered Saturdays from 10:00am – 11:00am at FHC – East Broadway. \nCall 502-772-8588 or email healtheducation@fhclouisville.org for more information.
URL:https://www.fhclouisville.org/event/zumba-east-broadway-9/2026-01-29/
LOCATION:FHC-East Broadway\, 834 East Broadway\, Louisville\, 40204
CATEGORIES:Exercise,Health Education
GEO:38.244177;-85.737774
X-APPLE-STRUCTURED-LOCATION;VALUE=URI;X-ADDRESS=FHC-East Broadway 834 East Broadway Louisville 40204;X-APPLE-RADIUS=500;X-TITLE=834 East Broadway:geo:-85.737774,38.244177
END:VEVENT
BEGIN:VEVENT
DTSTART;TZID=UTC:20260131T100000
DTEND;TZID=UTC:20260131T110000
DTSTAMP:20260425T215755
CREATED:20251202T192800Z
LAST-MODIFIED:20251202T192800Z
UID:30665-1769853600-1769857200@www.fhclouisville.org
SUMMARY:Zumba (East Broadway)
DESCRIPTION:Have fun and get in shape! Free! \nOffered Wednesdays and Thursdays from 5:00pm – 6:00pm at FHC – East Broadway. \nOffered Saturdays from 10:00am – 11:00am at FHC – East Broadway. \nCall 502-772-8588 or email healtheducation@fhclouisville.org for more information.
URL:https://www.fhclouisville.org/event/zumba-east-broadway-10/2026-01-31/
LOCATION:FHC-East Broadway\, 834 East Broadway\, Louisville\, 40204
CATEGORIES:Exercise,Health Education
GEO:38.244177;-85.737774
X-APPLE-STRUCTURED-LOCATION;VALUE=URI;X-ADDRESS=FHC-East Broadway 834 East Broadway Louisville 40204;X-APPLE-RADIUS=500;X-TITLE=834 East Broadway:geo:-85.737774,38.244177
END:VEVENT
BEGIN:VEVENT
DTSTART;TZID=UTC:20260131T120000
DTEND;TZID=UTC:20260131T130000
DTSTAMP:20260425T215755
CREATED:20251212T172325Z
LAST-MODIFIED:20251212T172325Z
UID:30799-1769860800-1769864400@www.fhclouisville.org
SUMMARY:Family Playgroup (East Broadway)
DESCRIPTION:For parents and children 0 to 5 years old. \nLearn and have fun with your child through art\, music\, movement and more! Free! \nOffered Saturdays\, 12:00pm – 1:00pm. \nCall 502-772-8588 or email healtheducation@fhclouisville.org for more information.
URL:https://www.fhclouisville.org/event/family-playgroup-east-broadway-5/2026-01-31/
LOCATION:FHC-East Broadway\, 834 East Broadway\, Louisville\, 40204
CATEGORIES:For Kids,Health Education,Parenting
GEO:38.244177;-85.737774
X-APPLE-STRUCTURED-LOCATION;VALUE=URI;X-ADDRESS=FHC-East Broadway 834 East Broadway Louisville 40204;X-APPLE-RADIUS=500;X-TITLE=834 East Broadway:geo:-85.737774,38.244177
END:VEVENT
BEGIN:VEVENT
DTSTART;TZID=UTC:20260202T173000
DTEND;TZID=UTC:20260202T183000
DTSTAMP:20260425T215755
CREATED:20251202T193103Z
LAST-MODIFIED:20251202T193103Z
UID:30715-1770053400-1770057000@www.fhclouisville.org
SUMMARY:Yoga (East Broadway)
DESCRIPTION:Relax\, stretch\, and strengthen your muscles. FREE! \nAttend every Monday or drop in on select Mondays from 5:30pm – 6:30pm. \nYoga mats and other supplies available for use during class. \nCall 502-772-8588 or email healtheducation@fhclouisville.org for more information.
URL:https://www.fhclouisville.org/event/yoga-east-broadway-4/2026-02-02/
LOCATION:FHC-East Broadway\, 834 East Broadway\, Louisville\, 40204
CATEGORIES:Exercise,Health Education,Stress relief
GEO:38.244177;-85.737774
X-APPLE-STRUCTURED-LOCATION;VALUE=URI;X-ADDRESS=FHC-East Broadway 834 East Broadway Louisville 40204;X-APPLE-RADIUS=500;X-TITLE=834 East Broadway:geo:-85.737774,38.244177
END:VEVENT
BEGIN:VEVENT
DTSTART;TZID=UTC:20260204T170000
DTEND;TZID=UTC:20260204T180000
DTSTAMP:20260425T215755
CREATED:20251202T192122Z
LAST-MODIFIED:20251202T192122Z
UID:30565-1770224400-1770228000@www.fhclouisville.org
SUMMARY:Zumba (East Broadway)
DESCRIPTION:Have fun and get in shape! Free! \nOffered Wednesdays and Thursdays from 5:00pm – 6:00pm at FHC – East Broadway. \nOffered Saturdays from 10:00am – 11:00am at FHC – East Broadway. \nCall 502-772-8588 or email healtheducation@fhclouisville.org for more information.
URL:https://www.fhclouisville.org/event/zumba-east-broadway-9/2026-02-04/
LOCATION:FHC-East Broadway\, 834 East Broadway\, Louisville\, 40204
CATEGORIES:Exercise,Health Education
GEO:38.244177;-85.737774
X-APPLE-STRUCTURED-LOCATION;VALUE=URI;X-ADDRESS=FHC-East Broadway 834 East Broadway Louisville 40204;X-APPLE-RADIUS=500;X-TITLE=834 East Broadway:geo:-85.737774,38.244177
END:VEVENT
BEGIN:VEVENT
DTSTART;TZID=UTC:20260205T170000
DTEND;TZID=UTC:20260205T180000
DTSTAMP:20260425T215755
CREATED:20251202T192122Z
LAST-MODIFIED:20251202T192122Z
UID:30566-1770310800-1770314400@www.fhclouisville.org
SUMMARY:Zumba (East Broadway)
DESCRIPTION:Have fun and get in shape! Free! \nOffered Wednesdays and Thursdays from 5:00pm – 6:00pm at FHC – East Broadway. \nOffered Saturdays from 10:00am – 11:00am at FHC – East Broadway. \nCall 502-772-8588 or email healtheducation@fhclouisville.org for more information.
URL:https://www.fhclouisville.org/event/zumba-east-broadway-9/2026-02-05/
LOCATION:FHC-East Broadway\, 834 East Broadway\, Louisville\, 40204
CATEGORIES:Exercise,Health Education
GEO:38.244177;-85.737774
X-APPLE-STRUCTURED-LOCATION;VALUE=URI;X-ADDRESS=FHC-East Broadway 834 East Broadway Louisville 40204;X-APPLE-RADIUS=500;X-TITLE=834 East Broadway:geo:-85.737774,38.244177
END:VEVENT
BEGIN:VEVENT
DTSTART;TZID=UTC:20260207T090000
DTEND;TZID=UTC:20260207T120000
DTSTAMP:20260425T215755
CREATED:20251212T171939Z
LAST-MODIFIED:20260206T213313Z
UID:30795-1770454800-1770465600@www.fhclouisville.org
SUMMARY:CANCELADA Trabajo de parto y nacimiento del bebé (East Broadway)
DESCRIPTION:Aprenda acerca de las señales\, etapas y fases del trabajo de parto\, parto por cesaría\, intervenciones médicas\, anestesia y técnicas de confort. Esta clase es recomendada para las madres y los padres primerizos durante el quinto\, sexto o séptimo mes de embarazo. Si ya se registró para Lamaze Principles\, no necesita registrarse para la clase de Trabajo de parto y nacimiento del bebé. Por favor registre a todos los participantes para garantizar un conteo correcto de la clase. \nPara obtener más información\, envíe un correo electrónico a healtheducation@fhclouisville.org o llame al 502-569-2980.
URL:https://www.fhclouisville.org/event/trabajo-de-parto-y-nacimiento-del-bebe-east-broadway/
LOCATION:FHC-East Broadway\, 834 East Broadway\, Louisville\, 40204
CATEGORIES:Español,Health Education,Prenatal
GEO:38.244177;-85.737774
X-APPLE-STRUCTURED-LOCATION;VALUE=URI;X-ADDRESS=FHC-East Broadway 834 East Broadway Louisville 40204;X-APPLE-RADIUS=500;X-TITLE=834 East Broadway:geo:-85.737774,38.244177
END:VEVENT
BEGIN:VEVENT
DTSTART;TZID=UTC:20260207T100000
DTEND;TZID=UTC:20260207T110000
DTSTAMP:20260425T215755
CREATED:20251202T192800Z
LAST-MODIFIED:20251212T172104Z
UID:30666-1770458400-1770462000@www.fhclouisville.org
SUMMARY:Zumba (East Broadway)
DESCRIPTION:Have fun and get in shape! Free! \nOffered Wednesdays and Thursdays from 5:00pm – 6:00pm at FHC – East Broadway. \nOffered Saturdays from 10:00am – 11:00am at FHC – East Broadway. \nCall 502-772-8588 or email healtheducation@fhclouisville.org for more information.
URL:https://www.fhclouisville.org/event/zumba-east-broadway-10-2026-02-07/
LOCATION:FHC-East Broadway\, 834 East Broadway\, Louisville\, 40204
CATEGORIES:Exercise,Health Education
GEO:38.244177;-85.737774
X-APPLE-STRUCTURED-LOCATION;VALUE=URI;X-ADDRESS=FHC-East Broadway 834 East Broadway Louisville 40204;X-APPLE-RADIUS=500;X-TITLE=834 East Broadway:geo:-85.737774,38.244177
END:VEVENT
BEGIN:VEVENT
DTSTART;TZID=UTC:20260207T120000
DTEND;TZID=UTC:20260207T130000
DTSTAMP:20260425T215755
CREATED:20251212T172325Z
LAST-MODIFIED:20251212T172414Z
UID:30800-1770465600-1770469200@www.fhclouisville.org
SUMMARY:Family Playgroup (East Broadway)
DESCRIPTION:For parents and children 0 to 5 years old. \nLearn and have fun with your child through art\, music\, movement and more! Free! \nOffered Saturdays\, 12:00pm – 1:00pm. \nCall 502-772-8588 or email healtheducation@fhclouisville.org for more information.
URL:https://www.fhclouisville.org/event/family-playgroup-east-broadway-5-2026-02-07/
LOCATION:FHC-East Broadway\, 834 East Broadway\, Louisville\, 40204
CATEGORIES:For Kids,Health Education,Parenting
GEO:38.244177;-85.737774
X-APPLE-STRUCTURED-LOCATION;VALUE=URI;X-ADDRESS=FHC-East Broadway 834 East Broadway Louisville 40204;X-APPLE-RADIUS=500;X-TITLE=834 East Broadway:geo:-85.737774,38.244177
END:VEVENT
BEGIN:VEVENT
DTSTART;TZID=UTC:20260209T173000
DTEND;TZID=UTC:20260209T183000
DTSTAMP:20260425T215755
CREATED:20251202T193103Z
LAST-MODIFIED:20251202T193103Z
UID:30716-1770658200-1770661800@www.fhclouisville.org
SUMMARY:Yoga (East Broadway)
DESCRIPTION:Relax\, stretch\, and strengthen your muscles. FREE! \nAttend every Monday or drop in on select Mondays from 5:30pm – 6:30pm. \nYoga mats and other supplies available for use during class. \nCall 502-772-8588 or email healtheducation@fhclouisville.org for more information.
URL:https://www.fhclouisville.org/event/yoga-east-broadway-4/2026-02-09/
LOCATION:FHC-East Broadway\, 834 East Broadway\, Louisville\, 40204
CATEGORIES:Exercise,Health Education,Stress relief
GEO:38.244177;-85.737774
X-APPLE-STRUCTURED-LOCATION;VALUE=URI;X-ADDRESS=FHC-East Broadway 834 East Broadway Louisville 40204;X-APPLE-RADIUS=500;X-TITLE=834 East Broadway:geo:-85.737774,38.244177
END:VEVENT
BEGIN:VEVENT
DTSTART;TZID=UTC:20260211T170000
DTEND;TZID=UTC:20260211T180000
DTSTAMP:20260425T215755
CREATED:20251202T192122Z
LAST-MODIFIED:20260123T170315Z
UID:30567-1770829200-1770832800@www.fhclouisville.org
SUMMARY:Zumba (East Broadway)
DESCRIPTION:Have fun and get in shape! Free! \nOffered Wednesdays and Thursdays from 5:00pm – 6:00pm at FHC – East Broadway. \nOffered Saturdays from 10:00am – 11:00am at FHC – East Broadway. \nCall 502-772-8588 or email healtheducation@fhclouisville.org for more information.
URL:https://www.fhclouisville.org/event/zumba-east-broadway-9-2026-02-11/
LOCATION:FHC-East Broadway\, 834 East Broadway\, Louisville\, 40204
CATEGORIES:Exercise,Health Education
GEO:38.244177;-85.737774
X-APPLE-STRUCTURED-LOCATION;VALUE=URI;X-ADDRESS=FHC-East Broadway 834 East Broadway Louisville 40204;X-APPLE-RADIUS=500;X-TITLE=834 East Broadway:geo:-85.737774,38.244177
END:VEVENT
END:VCALENDAR