BEGIN:VCALENDAR
VERSION:2.0
PRODID:-//Family Health Centers - ECPv6.15.20//NONSGML v1.0//EN
CALSCALE:GREGORIAN
METHOD:PUBLISH
X-ORIGINAL-URL:https://www.fhclouisville.org
X-WR-CALDESC:Events for Family Health Centers
REFRESH-INTERVAL;VALUE=DURATION:PT1H
X-Robots-Tag:noindex
X-PUBLISHED-TTL:PT1H
BEGIN:VTIMEZONE
TZID:UTC
BEGIN:STANDARD
TZOFFSETFROM:+0000
TZOFFSETTO:+0000
TZNAME:UTC
DTSTART:20240101T000000
END:STANDARD
END:VTIMEZONE
BEGIN:VEVENT
DTSTART;TZID=UTC:20250805T180000
DTEND;TZID=UTC:20250805T200000
DTSTAMP:20260423T102920
CREATED:20250717T162552Z
LAST-MODIFIED:20250717T163908Z
UID:30452-1754416800-1754424000@www.fhclouisville.org
SUMMARY:Postparto y recién nacido (en línea)
DESCRIPTION:Aprenda más acerca de que esperar después del parto\, como la recuperación física\, emociones\, apoyo e intimidad. En esta clase se destaca la comprensión de su recién nacido como las características\, los cuidados\, el llanto\, el cambio de pañales\, el baño\, la salud y el sueño seguro. Clase recomendada durante el quinto\, sexto o séptimo mes de embarazo. Por favor registre a todos los participantes para garantizar un conteo correcto de la clase. \nAsista el martes 5 de agosto\, de 18:00 a 20:00 h\, por ZOOM. \nHaga clic aquí para registrarse. \nLlame al 502-569-2980 o envíe un correo electrónico a healtheducation@fhclouisville.org para obtener más información.
URL:https://www.fhclouisville.org/event/postparto-y-recien-nacido-en-linea/
CATEGORIES:Español,Health Education,Parenting,Prenatal
END:VEVENT
END:VCALENDAR