BEGIN:VCALENDAR
VERSION:2.0
PRODID:-//Family Health Centers - ECPv6.15.20//NONSGML v1.0//EN
CALSCALE:GREGORIAN
METHOD:PUBLISH
X-WR-CALNAME:Family Health Centers
X-ORIGINAL-URL:https://www.fhclouisville.org
X-WR-CALDESC:Events for Family Health Centers
REFRESH-INTERVAL;VALUE=DURATION:PT1H
X-Robots-Tag:noindex
X-PUBLISHED-TTL:PT1H
BEGIN:VTIMEZONE
TZID:UTC
BEGIN:STANDARD
TZOFFSETFROM:+0000
TZOFFSETTO:+0000
TZNAME:UTC
DTSTART:20220101T000000
END:STANDARD
END:VTIMEZONE
BEGIN:VEVENT
DTSTART;TZID=UTC:20240531T123000
DTEND;TZID=UTC:20240531T133000
DTSTAMP:20260423T115727
CREATED:20240120T224224Z
LAST-MODIFIED:20240120T224224Z
UID:29633-1717158600-1717162200@www.fhclouisville.org
SUMMARY:New Mama Chat (Online)
DESCRIPTION:Learn about breastfeeding and get help with breastfeeding issues from our Certified Lactation Consultants. Meet and get support from other breastfeeding moms. Free! \nNew Mama Chat is offered from 12:30 – 1:30 on the dates below: \n\nJanuary 26\nFebruary 23\nMarch 29\nAril 26\nMay 31\n\nClick her to register. Once you complete the registration form\, you will receive an email with your personal link to join the meetings. You can use this link to attend any of the New Mama Chat meetings. \nCall 502-772-8588 or email healtheducation@fhclouisville.org for more information
URL:https://www.fhclouisville.org/event/new-mama-chat-online/2024-05-31/
CATEGORIES:Breastfeeding,Health Education
END:VEVENT
BEGIN:VEVENT
DTSTART;TZID=UTC:20240426T123000
DTEND;TZID=UTC:20240426T133000
DTSTAMP:20260423T115727
CREATED:20240120T224224Z
LAST-MODIFIED:20240120T224224Z
UID:29632-1714134600-1714138200@www.fhclouisville.org
SUMMARY:New Mama Chat (Online)
DESCRIPTION:Learn about breastfeeding and get help with breastfeeding issues from our Certified Lactation Consultants. Meet and get support from other breastfeeding moms. Free! \nNew Mama Chat is offered from 12:30 – 1:30 on the dates below: \n\nJanuary 26\nFebruary 23\nMarch 29\nAril 26\nMay 31\n\nClick her to register. Once you complete the registration form\, you will receive an email with your personal link to join the meetings. You can use this link to attend any of the New Mama Chat meetings. \nCall 502-772-8588 or email healtheducation@fhclouisville.org for more information
URL:https://www.fhclouisville.org/event/new-mama-chat-online/2024-04-26/
CATEGORIES:Breastfeeding,Health Education
END:VEVENT
BEGIN:VEVENT
DTSTART;TZID=UTC:20240126T123000
DTEND;TZID=UTC:20240126T133000
DTSTAMP:20260423T115727
CREATED:20240120T224224Z
LAST-MODIFIED:20240120T224224Z
UID:29629-1706272200-1706275800@www.fhclouisville.org
SUMMARY:New Mama Chat (Online)
DESCRIPTION:Learn about breastfeeding and get help with breastfeeding issues from our Certified Lactation Consultants. Meet and get support from other breastfeeding moms. Free! \nNew Mama Chat is offered from 12:30 – 1:30 on the dates below: \n\nJanuary 26\nFebruary 23\nMarch 29\nAril 26\nMay 31\n\nClick her to register. Once you complete the registration form\, you will receive an email with your personal link to join the meetings. You can use this link to attend any of the New Mama Chat meetings. \nCall 502-772-8588 or email healtheducation@fhclouisville.org for more information
URL:https://www.fhclouisville.org/event/new-mama-chat-online/2024-01-26/
CATEGORIES:Breastfeeding,Health Education
END:VEVENT
BEGIN:VEVENT
DTSTART;TZID=UTC:20230825T123000
DTEND;TZID=UTC:20230825T133000
DTSTAMP:20260423T115727
CREATED:20230828T171222Z
LAST-MODIFIED:20230828T171222Z
UID:29336-1692966600-1692970200@www.fhclouisville.org
SUMMARY:Breastfeeding Support Group (ONLINE)
DESCRIPTION:Learn about breastfeeding and get help with breastfeeding issues from our Certified Lactation Consultants. Meet and get support from other breastfeeding moms. Free! \nOffered 8/25\, 9/29\, 10/27\, 11/17\, and 12/15 from 12:30pm – 1:30pm. \nClick here to register for the virtual Breastfeeding Support Group. \nCall 502-772-8588 or email healtheducation@fhclouisville.org for more information.
URL:https://www.fhclouisville.org/event/breastfeeding-support-group-online/2023-08-25/
CATEGORIES:Breastfeeding,Health Education,Prenatal
END:VEVENT
BEGIN:VEVENT
DTSTART;TZID=UTC:20230804T110000
DTEND;TZID=UTC:20230804T150000
DTSTAMP:20260423T115727
CREATED:20230531T143542Z
LAST-MODIFIED:20230531T143542Z
UID:29169-1691146800-1691161200@www.fhclouisville.org
SUMMARY:Celebrate World Breastfeeding Week!
DESCRIPTION:Join us as we celebrate World Breastfeeding Week with food\, fun\, prizes\, and more! \nCall 502-569-2980 or click here to register!
URL:https://www.fhclouisville.org/event/celebrate-world-breastfeeding-week/
LOCATION:FHC-East Broadway\, 834 East Broadway\, Louisville\, 40204
CATEGORIES:Breastfeeding,Health Education,Prenatal
GEO:38.244177;-85.737774
X-APPLE-STRUCTURED-LOCATION;VALUE=URI;X-ADDRESS=FHC-East Broadway 834 East Broadway Louisville 40204;X-APPLE-RADIUS=500;X-TITLE=834 East Broadway:geo:-85.737774,38.244177
END:VEVENT
END:VCALENDAR