BEGIN:VCALENDAR
VERSION:2.0
PRODID:-//Family Health Centers - ECPv6.15.17.1//NONSGML v1.0//EN
CALSCALE:GREGORIAN
METHOD:PUBLISH
X-WR-CALNAME:Family Health Centers
X-ORIGINAL-URL:https://www.fhclouisville.org
X-WR-CALDESC:Events for Family Health Centers
REFRESH-INTERVAL;VALUE=DURATION:PT1H
X-Robots-Tag:noindex
X-PUBLISHED-TTL:PT1H
BEGIN:VTIMEZONE
TZID:UTC
BEGIN:STANDARD
TZOFFSETFROM:+0000
TZOFFSETTO:+0000
TZNAME:UTC
DTSTART:20240101T000000
END:STANDARD
END:VTIMEZONE
BEGIN:VEVENT
DTSTART;TZID=UTC:20251010T110000
DTEND;TZID=UTC:20251010T120000
DTSTAMP:20260420T102858
CREATED:20250930T130310Z
LAST-MODIFIED:20251009T140144Z
UID:30518-1760094000-1760097600@www.fhclouisville.org
SUMMARY:Técnicas de relajación para el parto (East Broadway)
DESCRIPTION:Ya sea que está considerando una experiencia de parto sin medicación o planea utilizar medicamentos para el dolor\, esta clase explorara medidas de confort como patrones de respiración\, técnicas de relajación\, visualización\, masajes\, apoyo de pareja y mucho más. Los participantes deben usar ropa cómoda\, tener dos almohadas y colchoneta de ejercicios o toalla. \nHaga clic aquí para registrarse. Llame al 502-569-2980 o envíe un correo electrónico a healtheducation@fhclouisville.org para obtener más información.
URL:https://www.fhclouisville.org/event/tecnicas-de-relajacion-para-el-parto/
LOCATION:FHC-East Broadway\, 834 East Broadway\, Louisville\, 40204
CATEGORIES:Español,Prenatal
GEO:38.244177;-85.737774
X-APPLE-STRUCTURED-LOCATION;VALUE=URI;X-ADDRESS=FHC-East Broadway 834 East Broadway Louisville 40204;X-APPLE-RADIUS=500;X-TITLE=834 East Broadway:geo:-85.737774,38.244177
END:VEVENT
END:VCALENDAR