BEGIN:VCALENDAR
VERSION:2.0
PRODID:-//Family Health Centers - ECPv6.15.17.1//NONSGML v1.0//EN
CALSCALE:GREGORIAN
METHOD:PUBLISH
X-ORIGINAL-URL:https://www.fhclouisville.org
X-WR-CALDESC:Events for Family Health Centers
REFRESH-INTERVAL;VALUE=DURATION:PT1H
X-Robots-Tag:noindex
X-PUBLISHED-TTL:PT1H
BEGIN:VTIMEZONE
TZID:UTC
BEGIN:STANDARD
TZOFFSETFROM:+0000
TZOFFSETTO:+0000
TZNAME:UTC
DTSTART:20230101T000000
END:STANDARD
END:VTIMEZONE
BEGIN:VEVENT
DTSTART;TZID=UTC:20241119T100000
DTEND;TZID=UTC:20241119T120000
DTSTAMP:20260420T203620
CREATED:20240725T175803Z
LAST-MODIFIED:20240725T175803Z
UID:29903-1732010400-1732017600@www.fhclouisville.org
SUMMARY:Cooking Matters (East Broadway)
DESCRIPTION:Learn about healthy eating\, meal planning on a budget\, and more. Participate in cooking demos. Get a cookbook and groceries. FREE. \nAttend every Tuesday\, 11/5 to 12/17\, from 10:00am – 12:00pm. Click here to register. \nCall 502-772-8588 or email healtheducation@fhclouisville.org for more info.
URL:https://www.fhclouisville.org/event/cooking-matters-east-broadway-2/2024-11-19/
LOCATION:FHC-East Broadway\, 834 East Broadway\, Louisville\, 40204
CATEGORIES:Cooking,Health Education,Healthy eating
GEO:38.244177;-85.737774
X-APPLE-STRUCTURED-LOCATION;VALUE=URI;X-ADDRESS=FHC-East Broadway 834 East Broadway Louisville 40204;X-APPLE-RADIUS=500;X-TITLE=834 East Broadway:geo:-85.737774,38.244177
END:VEVENT
BEGIN:VEVENT
DTSTART;TZID=UTC:20241112T100000
DTEND;TZID=UTC:20241112T120000
DTSTAMP:20260420T203620
CREATED:20240725T175803Z
LAST-MODIFIED:20240725T175803Z
UID:29902-1731405600-1731412800@www.fhclouisville.org
SUMMARY:Cooking Matters (East Broadway)
DESCRIPTION:Learn about healthy eating\, meal planning on a budget\, and more. Participate in cooking demos. Get a cookbook and groceries. FREE. \nAttend every Tuesday\, 11/5 to 12/17\, from 10:00am – 12:00pm. Click here to register. \nCall 502-772-8588 or email healtheducation@fhclouisville.org for more info.
URL:https://www.fhclouisville.org/event/cooking-matters-east-broadway-2/2024-11-12/
LOCATION:FHC-East Broadway\, 834 East Broadway\, Louisville\, 40204
CATEGORIES:Cooking,Health Education,Healthy eating
GEO:38.244177;-85.737774
X-APPLE-STRUCTURED-LOCATION;VALUE=URI;X-ADDRESS=FHC-East Broadway 834 East Broadway Louisville 40204;X-APPLE-RADIUS=500;X-TITLE=834 East Broadway:geo:-85.737774,38.244177
END:VEVENT
BEGIN:VEVENT
DTSTART;TZID=UTC:20241105T100000
DTEND;TZID=UTC:20241105T120000
DTSTAMP:20260420T203620
CREATED:20240725T175803Z
LAST-MODIFIED:20240725T175803Z
UID:29901-1730800800-1730808000@www.fhclouisville.org
SUMMARY:Cooking Matters (East Broadway)
DESCRIPTION:Learn about healthy eating\, meal planning on a budget\, and more. Participate in cooking demos. Get a cookbook and groceries. FREE. \nAttend every Tuesday\, 11/5 to 12/17\, from 10:00am – 12:00pm. Click here to register. \nCall 502-772-8588 or email healtheducation@fhclouisville.org for more info.
URL:https://www.fhclouisville.org/event/cooking-matters-east-broadway-2/2024-11-05/
LOCATION:FHC-East Broadway\, 834 East Broadway\, Louisville\, 40204
CATEGORIES:Cooking,Health Education,Healthy eating
GEO:38.244177;-85.737774
X-APPLE-STRUCTURED-LOCATION;VALUE=URI;X-ADDRESS=FHC-East Broadway 834 East Broadway Louisville 40204;X-APPLE-RADIUS=500;X-TITLE=834 East Broadway:geo:-85.737774,38.244177
END:VEVENT
END:VCALENDAR