BEGIN:VCALENDAR
VERSION:2.0
PRODID:-//Family Health Centers - ECPv6.15.20//NONSGML v1.0//EN
CALSCALE:GREGORIAN
METHOD:PUBLISH
X-ORIGINAL-URL:https://www.fhclouisville.org
X-WR-CALDESC:Events for Family Health Centers
REFRESH-INTERVAL;VALUE=DURATION:PT1H
X-Robots-Tag:noindex
X-PUBLISHED-TTL:PT1H
BEGIN:VTIMEZONE
TZID:UTC
BEGIN:STANDARD
TZOFFSETFROM:+0000
TZOFFSETTO:+0000
TZNAME:UTC
DTSTART:20250101T000000
END:STANDARD
END:VTIMEZONE
BEGIN:VEVENT
DTSTART;TZID=UTC:20260425T100000
DTEND;TZID=UTC:20260425T110000
DTSTAMP:20260424T211350
CREATED:20251202T192800Z
LAST-MODIFIED:20251202T192800Z
UID:30677-1777111200-1777114800@www.fhclouisville.org
SUMMARY:Zumba (East Broadway)
DESCRIPTION:Have fun and get in shape! Free! \nOffered Wednesdays and Thursdays from 5:00pm – 6:00pm at FHC – East Broadway. \nOffered Saturdays from 10:00am – 11:00am at FHC – East Broadway. \nCall 502-772-8588 or email healtheducation@fhclouisville.org for more information.
URL:https://www.fhclouisville.org/event/zumba-east-broadway-10/2026-04-25/
LOCATION:FHC-East Broadway\, 834 East Broadway\, Louisville\, 40204
CATEGORIES:Exercise,Health Education
GEO:38.244177;-85.737774
X-APPLE-STRUCTURED-LOCATION;VALUE=URI;X-ADDRESS=FHC-East Broadway 834 East Broadway Louisville 40204;X-APPLE-RADIUS=500;X-TITLE=834 East Broadway:geo:-85.737774,38.244177
END:VEVENT
BEGIN:VEVENT
DTSTART;TZID=UTC:20260425T120000
DTEND;TZID=UTC:20260425T130000
DTSTAMP:20260424T211350
CREATED:20251212T172325Z
LAST-MODIFIED:20251212T172325Z
UID:30811-1777118400-1777122000@www.fhclouisville.org
SUMMARY:Family Playgroup (East Broadway)
DESCRIPTION:For parents and children 0 to 5 years old. \nLearn and have fun with your child through art\, music\, movement and more! Free! \nOffered Saturdays\, 12:00pm – 1:00pm. \nCall 502-772-8588 or email healtheducation@fhclouisville.org for more information.
URL:https://www.fhclouisville.org/event/family-playgroup-east-broadway-5/2026-04-25/
LOCATION:FHC-East Broadway\, 834 East Broadway\, Louisville\, 40204
CATEGORIES:For Kids,Health Education,Parenting
GEO:38.244177;-85.737774
X-APPLE-STRUCTURED-LOCATION;VALUE=URI;X-ADDRESS=FHC-East Broadway 834 East Broadway Louisville 40204;X-APPLE-RADIUS=500;X-TITLE=834 East Broadway:geo:-85.737774,38.244177
END:VEVENT
BEGIN:VEVENT
DTSTART;TZID=UTC:20260427T173000
DTEND;TZID=UTC:20260427T183000
DTSTAMP:20260424T211350
CREATED:20251202T194422Z
LAST-MODIFIED:20251202T194459Z
UID:30756-1777311000-1777314600@www.fhclouisville.org
SUMMARY:Chair Yoga (East Broadway)
DESCRIPTION:Relax\, stretch\, and strengthen your muscles. FREE! \nAttend on the 4th Monday of each month from 5:30pm – 6:30pm for chair yoga. \nAttend other Mondays for mat-based yoga classes. \nChairs and other supplies available for use during class. \nCall 502-772-8588 or email healtheducation@fhclouisville.org for more information.
URL:https://www.fhclouisville.org/event/chair-yoga-east-broadway/2026-04-27/
LOCATION:FHC-East Broadway\, 834 East Broadway\, Louisville\, 40204
CATEGORIES:Exercise,Health Education,Stress relief
GEO:38.244177;-85.737774
X-APPLE-STRUCTURED-LOCATION;VALUE=URI;X-ADDRESS=FHC-East Broadway 834 East Broadway Louisville 40204;X-APPLE-RADIUS=500;X-TITLE=834 East Broadway:geo:-85.737774,38.244177
END:VEVENT
BEGIN:VEVENT
DTSTART;TZID=UTC:20260429T170000
DTEND;TZID=UTC:20260429T180000
DTSTAMP:20260424T211350
CREATED:20251202T192122Z
LAST-MODIFIED:20251202T192122Z
UID:30589-1777482000-1777485600@www.fhclouisville.org
SUMMARY:Zumba (East Broadway)
DESCRIPTION:Have fun and get in shape! Free! \nOffered Wednesdays and Thursdays from 5:00pm – 6:00pm at FHC – East Broadway. \nOffered Saturdays from 10:00am – 11:00am at FHC – East Broadway. \nCall 502-772-8588 or email healtheducation@fhclouisville.org for more information.
URL:https://www.fhclouisville.org/event/zumba-east-broadway-9/2026-04-29/
LOCATION:FHC-East Broadway\, 834 East Broadway\, Louisville\, 40204
CATEGORIES:Exercise,Health Education
GEO:38.244177;-85.737774
X-APPLE-STRUCTURED-LOCATION;VALUE=URI;X-ADDRESS=FHC-East Broadway 834 East Broadway Louisville 40204;X-APPLE-RADIUS=500;X-TITLE=834 East Broadway:geo:-85.737774,38.244177
END:VEVENT
BEGIN:VEVENT
DTSTART;TZID=UTC:20260430T170000
DTEND;TZID=UTC:20260430T180000
DTSTAMP:20260424T211350
CREATED:20251202T192122Z
LAST-MODIFIED:20251202T192122Z
UID:30590-1777568400-1777572000@www.fhclouisville.org
SUMMARY:Zumba (East Broadway)
DESCRIPTION:Have fun and get in shape! Free! \nOffered Wednesdays and Thursdays from 5:00pm – 6:00pm at FHC – East Broadway. \nOffered Saturdays from 10:00am – 11:00am at FHC – East Broadway. \nCall 502-772-8588 or email healtheducation@fhclouisville.org for more information.
URL:https://www.fhclouisville.org/event/zumba-east-broadway-9/2026-04-30/
LOCATION:FHC-East Broadway\, 834 East Broadway\, Louisville\, 40204
CATEGORIES:Exercise,Health Education
GEO:38.244177;-85.737774
X-APPLE-STRUCTURED-LOCATION;VALUE=URI;X-ADDRESS=FHC-East Broadway 834 East Broadway Louisville 40204;X-APPLE-RADIUS=500;X-TITLE=834 East Broadway:geo:-85.737774,38.244177
END:VEVENT
END:VCALENDAR